BEGIN:VCALENDAR
VERSION:2.0
PRODID:-//Curriculum and Quality Solutions - ECPv6.15.20//NONSGML v1.0//EN
CALSCALE:GREGORIAN
METHOD:PUBLISH
X-ORIGINAL-URL:https://www.curriculumandquality.co.uk
X-WR-CALDESC:Events for Curriculum and Quality Solutions
REFRESH-INTERVAL;VALUE=DURATION:PT1H
X-Robots-Tag:noindex
X-PUBLISHED-TTL:PT1H
BEGIN:VTIMEZONE
TZID:Europe/London
BEGIN:DAYLIGHT
TZOFFSETFROM:+0000
TZOFFSETTO:+0100
TZNAME:BST
DTSTART:20250330T010000
END:DAYLIGHT
BEGIN:STANDARD
TZOFFSETFROM:+0100
TZOFFSETTO:+0000
TZNAME:GMT
DTSTART:20251026T010000
END:STANDARD
BEGIN:DAYLIGHT
TZOFFSETFROM:+0000
TZOFFSETTO:+0100
TZNAME:BST
DTSTART:20260329T010000
END:DAYLIGHT
BEGIN:STANDARD
TZOFFSETFROM:+0100
TZOFFSETTO:+0000
TZNAME:GMT
DTSTART:20261025T010000
END:STANDARD
BEGIN:DAYLIGHT
TZOFFSETFROM:+0000
TZOFFSETTO:+0100
TZNAME:BST
DTSTART:20270328T010000
END:DAYLIGHT
BEGIN:STANDARD
TZOFFSETFROM:+0100
TZOFFSETTO:+0000
TZNAME:GMT
DTSTART:20271031T010000
END:STANDARD
BEGIN:DAYLIGHT
TZOFFSETFROM:+0000
TZOFFSETTO:+0100
TZNAME:BST
DTSTART:20280326T010000
END:DAYLIGHT
BEGIN:STANDARD
TZOFFSETFROM:+0100
TZOFFSETTO:+0000
TZNAME:GMT
DTSTART:20281029T010000
END:STANDARD
END:VTIMEZONE
BEGIN:VEVENT
DTSTART;VALUE=DATE:20260427
DTEND;VALUE=DATE:20260428
DTSTAMP:20260420T201752
CREATED:20240108T143835Z
LAST-MODIFIED:20251123T174820Z
UID:10002462-1777248000-1777334399@www.curriculumandquality.co.uk
SUMMARY:Level 2 Award in Mentoring @ Online only
DESCRIPTION:
URL:https://www.curriculumandquality.co.uk/event/level-2-award-in-mentoring-online-only/2026-04-27/
CATEGORIES:Coaching and Mentoring
END:VEVENT
BEGIN:VEVENT
DTSTART;VALUE=DATE:20260521
DTEND;VALUE=DATE:20260522
DTSTAMP:20260420T201752
CREATED:20230123T200741Z
LAST-MODIFIED:20250616T122709Z
UID:10002780-1779321600-1779407999@www.curriculumandquality.co.uk
SUMMARY:TQUK Level 3 Award in Coaching and Mentoring (RQF) @ Online ONLY
DESCRIPTION:
URL:https://www.curriculumandquality.co.uk/event/online-training-tquk-level-3-award-in-coaching-and-mentoring-rqf-online-only/2026-05-21/
CATEGORIES:Coaching and Mentoring
END:VEVENT
BEGIN:VEVENT
DTSTART;VALUE=DATE:20260525
DTEND;VALUE=DATE:20260526
DTSTAMP:20260420T201752
CREATED:20240108T143835Z
LAST-MODIFIED:20251123T174820Z
UID:10002463-1779667200-1779753599@www.curriculumandquality.co.uk
SUMMARY:Level 2 Award in Mentoring @ Online only
DESCRIPTION:
URL:https://www.curriculumandquality.co.uk/event/level-2-award-in-mentoring-online-only/2026-05-25/
CATEGORIES:Coaching and Mentoring
END:VEVENT
BEGIN:VEVENT
DTSTART;VALUE=DATE:20260618
DTEND;VALUE=DATE:20260619
DTSTAMP:20260420T201752
CREATED:20230123T200741Z
LAST-MODIFIED:20250616T122709Z
UID:10002781-1781740800-1781827199@www.curriculumandquality.co.uk
SUMMARY:TQUK Level 3 Award in Coaching and Mentoring (RQF) @ Online ONLY
DESCRIPTION:
URL:https://www.curriculumandquality.co.uk/event/online-training-tquk-level-3-award-in-coaching-and-mentoring-rqf-online-only/2026-06-18/
CATEGORIES:Coaching and Mentoring
END:VEVENT
BEGIN:VEVENT
DTSTART;VALUE=DATE:20260622
DTEND;VALUE=DATE:20260623
DTSTAMP:20260420T201752
CREATED:20240108T143835Z
LAST-MODIFIED:20251123T174820Z
UID:10002464-1782086400-1782172799@www.curriculumandquality.co.uk
SUMMARY:Level 2 Award in Mentoring @ Online only
DESCRIPTION:
URL:https://www.curriculumandquality.co.uk/event/level-2-award-in-mentoring-online-only/2026-06-22/
CATEGORIES:Coaching and Mentoring
END:VEVENT
BEGIN:VEVENT
DTSTART;VALUE=DATE:20260716
DTEND;VALUE=DATE:20260717
DTSTAMP:20260420T201752
CREATED:20230123T200741Z
LAST-MODIFIED:20250616T122709Z
UID:10002782-1784160000-1784246399@www.curriculumandquality.co.uk
SUMMARY:TQUK Level 3 Award in Coaching and Mentoring (RQF) @ Online ONLY
DESCRIPTION:
URL:https://www.curriculumandquality.co.uk/event/online-training-tquk-level-3-award-in-coaching-and-mentoring-rqf-online-only/2026-07-16/
CATEGORIES:Coaching and Mentoring
END:VEVENT
BEGIN:VEVENT
DTSTART;VALUE=DATE:20260727
DTEND;VALUE=DATE:20260728
DTSTAMP:20260420T201752
CREATED:20240108T143835Z
LAST-MODIFIED:20251123T174820Z
UID:10002465-1785110400-1785196799@www.curriculumandquality.co.uk
SUMMARY:Level 2 Award in Mentoring @ Online only
DESCRIPTION:
URL:https://www.curriculumandquality.co.uk/event/level-2-award-in-mentoring-online-only/2026-07-27/
CATEGORIES:Coaching and Mentoring
END:VEVENT
BEGIN:VEVENT
DTSTART;VALUE=DATE:20260820
DTEND;VALUE=DATE:20260821
DTSTAMP:20260420T201752
CREATED:20230123T200741Z
LAST-MODIFIED:20250616T122709Z
UID:10002783-1787184000-1787270399@www.curriculumandquality.co.uk
SUMMARY:TQUK Level 3 Award in Coaching and Mentoring (RQF) @ Online ONLY
DESCRIPTION:
URL:https://www.curriculumandquality.co.uk/event/online-training-tquk-level-3-award-in-coaching-and-mentoring-rqf-online-only/2026-08-20/
CATEGORIES:Coaching and Mentoring
END:VEVENT
BEGIN:VEVENT
DTSTART;VALUE=DATE:20260824
DTEND;VALUE=DATE:20260825
DTSTAMP:20260420T201752
CREATED:20240108T143835Z
LAST-MODIFIED:20251123T174820Z
UID:10002466-1787529600-1787615999@www.curriculumandquality.co.uk
SUMMARY:Level 2 Award in Mentoring @ Online only
DESCRIPTION:
URL:https://www.curriculumandquality.co.uk/event/level-2-award-in-mentoring-online-only/2026-08-24/
CATEGORIES:Coaching and Mentoring
END:VEVENT
BEGIN:VEVENT
DTSTART;VALUE=DATE:20260917
DTEND;VALUE=DATE:20260918
DTSTAMP:20260420T201752
CREATED:20230123T200741Z
LAST-MODIFIED:20250616T122709Z
UID:10002784-1789603200-1789689599@www.curriculumandquality.co.uk
SUMMARY:TQUK Level 3 Award in Coaching and Mentoring (RQF) @ Online ONLY
DESCRIPTION:
URL:https://www.curriculumandquality.co.uk/event/online-training-tquk-level-3-award-in-coaching-and-mentoring-rqf-online-only/2026-09-17/
CATEGORIES:Coaching and Mentoring
END:VEVENT
BEGIN:VEVENT
DTSTART;VALUE=DATE:20260928
DTEND;VALUE=DATE:20260929
DTSTAMP:20260420T201752
CREATED:20240108T143835Z
LAST-MODIFIED:20251123T174820Z
UID:10002467-1790553600-1790639999@www.curriculumandquality.co.uk
SUMMARY:Level 2 Award in Mentoring @ Online only
DESCRIPTION:
URL:https://www.curriculumandquality.co.uk/event/level-2-award-in-mentoring-online-only/2026-09-28/
CATEGORIES:Coaching and Mentoring
END:VEVENT
BEGIN:VEVENT
DTSTART;VALUE=DATE:20261015
DTEND;VALUE=DATE:20261016
DTSTAMP:20260420T201752
CREATED:20230123T200741Z
LAST-MODIFIED:20250616T122709Z
UID:10002785-1792022400-1792108799@www.curriculumandquality.co.uk
SUMMARY:TQUK Level 3 Award in Coaching and Mentoring (RQF) @ Online ONLY
DESCRIPTION:
URL:https://www.curriculumandquality.co.uk/event/online-training-tquk-level-3-award-in-coaching-and-mentoring-rqf-online-only/2026-10-15/
CATEGORIES:Coaching and Mentoring
END:VEVENT
BEGIN:VEVENT
DTSTART;VALUE=DATE:20261026
DTEND;VALUE=DATE:20261027
DTSTAMP:20260420T201752
CREATED:20240108T143835Z
LAST-MODIFIED:20251123T174820Z
UID:10002468-1792972800-1793059199@www.curriculumandquality.co.uk
SUMMARY:Level 2 Award in Mentoring @ Online only
DESCRIPTION:
URL:https://www.curriculumandquality.co.uk/event/level-2-award-in-mentoring-online-only/2026-10-26/
CATEGORIES:Coaching and Mentoring
END:VEVENT
BEGIN:VEVENT
DTSTART;VALUE=DATE:20261119
DTEND;VALUE=DATE:20261120
DTSTAMP:20260420T201752
CREATED:20230123T200741Z
LAST-MODIFIED:20250616T122709Z
UID:10002786-1795046400-1795132799@www.curriculumandquality.co.uk
SUMMARY:TQUK Level 3 Award in Coaching and Mentoring (RQF) @ Online ONLY
DESCRIPTION:
URL:https://www.curriculumandquality.co.uk/event/online-training-tquk-level-3-award-in-coaching-and-mentoring-rqf-online-only/2026-11-19/
CATEGORIES:Coaching and Mentoring
END:VEVENT
BEGIN:VEVENT
DTSTART;VALUE=DATE:20261123
DTEND;VALUE=DATE:20261124
DTSTAMP:20260420T201752
CREATED:20240108T143835Z
LAST-MODIFIED:20251123T174820Z
UID:10002469-1795392000-1795478399@www.curriculumandquality.co.uk
SUMMARY:Level 2 Award in Mentoring @ Online only
DESCRIPTION:
URL:https://www.curriculumandquality.co.uk/event/level-2-award-in-mentoring-online-only/2026-11-23/
CATEGORIES:Coaching and Mentoring
END:VEVENT
BEGIN:VEVENT
DTSTART;VALUE=DATE:20261217
DTEND;VALUE=DATE:20261218
DTSTAMP:20260420T201752
CREATED:20230123T200741Z
LAST-MODIFIED:20250616T122709Z
UID:10002787-1797465600-1797551999@www.curriculumandquality.co.uk
SUMMARY:TQUK Level 3 Award in Coaching and Mentoring (RQF) @ Online ONLY
DESCRIPTION:
URL:https://www.curriculumandquality.co.uk/event/online-training-tquk-level-3-award-in-coaching-and-mentoring-rqf-online-only/2026-12-17/
CATEGORIES:Coaching and Mentoring
END:VEVENT
BEGIN:VEVENT
DTSTART;VALUE=DATE:20261228
DTEND;VALUE=DATE:20261229
DTSTAMP:20260420T201752
CREATED:20240108T143835Z
LAST-MODIFIED:20251123T174820Z
UID:10002470-1798416000-1798502399@www.curriculumandquality.co.uk
SUMMARY:Level 2 Award in Mentoring @ Online only
DESCRIPTION:
URL:https://www.curriculumandquality.co.uk/event/level-2-award-in-mentoring-online-only/2026-12-28/
CATEGORIES:Coaching and Mentoring
END:VEVENT
BEGIN:VEVENT
DTSTART;VALUE=DATE:20270121
DTEND;VALUE=DATE:20270122
DTSTAMP:20260420T201752
CREATED:20230123T200741Z
LAST-MODIFIED:20250616T122709Z
UID:10002788-1800489600-1800575999@www.curriculumandquality.co.uk
SUMMARY:TQUK Level 3 Award in Coaching and Mentoring (RQF) @ Online ONLY
DESCRIPTION:
URL:https://www.curriculumandquality.co.uk/event/online-training-tquk-level-3-award-in-coaching-and-mentoring-rqf-online-only/2027-01-21/
CATEGORIES:Coaching and Mentoring
END:VEVENT
BEGIN:VEVENT
DTSTART;VALUE=DATE:20270125
DTEND;VALUE=DATE:20270126
DTSTAMP:20260420T201752
CREATED:20240108T143835Z
LAST-MODIFIED:20251123T174820Z
UID:10002471-1800835200-1800921599@www.curriculumandquality.co.uk
SUMMARY:Level 2 Award in Mentoring @ Online only
DESCRIPTION:
URL:https://www.curriculumandquality.co.uk/event/level-2-award-in-mentoring-online-only/2027-01-25/
CATEGORIES:Coaching and Mentoring
END:VEVENT
END:VCALENDAR