BEGIN:VCALENDAR
VERSION:2.0
PRODID:-//Curriculum and Quality Solutions - ECPv6.15.20//NONSGML v1.0//EN
CALSCALE:GREGORIAN
METHOD:PUBLISH
X-WR-CALNAME:Curriculum and Quality Solutions
X-ORIGINAL-URL:https://www.curriculumandquality.co.uk
X-WR-CALDESC:Events for Curriculum and Quality Solutions
REFRESH-INTERVAL;VALUE=DURATION:PT1H
X-Robots-Tag:noindex
X-PUBLISHED-TTL:PT1H
BEGIN:VTIMEZONE
TZID:Europe/London
BEGIN:DAYLIGHT
TZOFFSETFROM:+0000
TZOFFSETTO:+0100
TZNAME:BST
DTSTART:20240331T010000
END:DAYLIGHT
BEGIN:STANDARD
TZOFFSETFROM:+0100
TZOFFSETTO:+0000
TZNAME:GMT
DTSTART:20241027T010000
END:STANDARD
BEGIN:DAYLIGHT
TZOFFSETFROM:+0000
TZOFFSETTO:+0100
TZNAME:BST
DTSTART:20250330T010000
END:DAYLIGHT
BEGIN:STANDARD
TZOFFSETFROM:+0100
TZOFFSETTO:+0000
TZNAME:GMT
DTSTART:20251026T010000
END:STANDARD
BEGIN:DAYLIGHT
TZOFFSETFROM:+0000
TZOFFSETTO:+0100
TZNAME:BST
DTSTART:20260329T010000
END:DAYLIGHT
BEGIN:STANDARD
TZOFFSETFROM:+0100
TZOFFSETTO:+0000
TZNAME:GMT
DTSTART:20261025T010000
END:STANDARD
BEGIN:DAYLIGHT
TZOFFSETFROM:+0000
TZOFFSETTO:+0100
TZNAME:BST
DTSTART:20270328T010000
END:DAYLIGHT
BEGIN:STANDARD
TZOFFSETFROM:+0100
TZOFFSETTO:+0000
TZNAME:GMT
DTSTART:20271031T010000
END:STANDARD
END:VTIMEZONE
BEGIN:VEVENT
DTSTART;VALUE=DATE:20260416
DTEND;VALUE=DATE:20260417
DTSTAMP:20260421T023732
CREATED:20230123T200741Z
LAST-MODIFIED:20250616T122709Z
UID:10002779-1776297600-1776383999@www.curriculumandquality.co.uk
SUMMARY:TQUK Level 3 Award in Coaching and Mentoring (RQF) @ Online ONLY
DESCRIPTION:
URL:https://www.curriculumandquality.co.uk/event/online-training-tquk-level-3-award-in-coaching-and-mentoring-rqf-online-only/2026-04-16/
CATEGORIES:Coaching and Mentoring
END:VEVENT
BEGIN:VEVENT
DTSTART;VALUE=DATE:20260319
DTEND;VALUE=DATE:20260320
DTSTAMP:20260421T023732
CREATED:20230123T200741Z
LAST-MODIFIED:20250616T122709Z
UID:10002778-1773878400-1773964799@www.curriculumandquality.co.uk
SUMMARY:TQUK Level 3 Award in Coaching and Mentoring (RQF) @ Online ONLY
DESCRIPTION:
URL:https://www.curriculumandquality.co.uk/event/online-training-tquk-level-3-award-in-coaching-and-mentoring-rqf-online-only/2026-03-19/
CATEGORIES:Coaching and Mentoring
END:VEVENT
BEGIN:VEVENT
DTSTART;VALUE=DATE:20260219
DTEND;VALUE=DATE:20260220
DTSTAMP:20260421T023732
CREATED:20230123T200741Z
LAST-MODIFIED:20250616T122709Z
UID:10002777-1771459200-1771545599@www.curriculumandquality.co.uk
SUMMARY:TQUK Level 3 Award in Coaching and Mentoring (RQF) @ Online ONLY
DESCRIPTION:
URL:https://www.curriculumandquality.co.uk/event/online-training-tquk-level-3-award-in-coaching-and-mentoring-rqf-online-only/2026-02-19/
CATEGORIES:Coaching and Mentoring
END:VEVENT
BEGIN:VEVENT
DTSTART;VALUE=DATE:20260115
DTEND;VALUE=DATE:20260116
DTSTAMP:20260421T023732
CREATED:20230123T200741Z
LAST-MODIFIED:20250616T122709Z
UID:10002776-1768435200-1768521599@www.curriculumandquality.co.uk
SUMMARY:TQUK Level 3 Award in Coaching and Mentoring (RQF) @ Online ONLY
DESCRIPTION:
URL:https://www.curriculumandquality.co.uk/event/online-training-tquk-level-3-award-in-coaching-and-mentoring-rqf-online-only/2026-01-15/
CATEGORIES:Coaching and Mentoring
END:VEVENT
BEGIN:VEVENT
DTSTART;VALUE=DATE:20251218
DTEND;VALUE=DATE:20251219
DTSTAMP:20260421T023732
CREATED:20230123T200741Z
LAST-MODIFIED:20250616T122709Z
UID:10002775-1766016000-1766102399@www.curriculumandquality.co.uk
SUMMARY:TQUK Level 3 Award in Coaching and Mentoring (RQF) @ Online ONLY
DESCRIPTION:
URL:https://www.curriculumandquality.co.uk/event/online-training-tquk-level-3-award-in-coaching-and-mentoring-rqf-online-only/2025-12-18/
CATEGORIES:Coaching and Mentoring
END:VEVENT
BEGIN:VEVENT
DTSTART;VALUE=DATE:20251120
DTEND;VALUE=DATE:20251121
DTSTAMP:20260421T023732
CREATED:20230123T200741Z
LAST-MODIFIED:20250616T122709Z
UID:10002774-1763596800-1763683199@www.curriculumandquality.co.uk
SUMMARY:TQUK Level 3 Award in Coaching and Mentoring (RQF) @ Online ONLY
DESCRIPTION:
URL:https://www.curriculumandquality.co.uk/event/online-training-tquk-level-3-award-in-coaching-and-mentoring-rqf-online-only/2025-11-20/
CATEGORIES:Coaching and Mentoring
END:VEVENT
BEGIN:VEVENT
DTSTART;VALUE=DATE:20251016
DTEND;VALUE=DATE:20251017
DTSTAMP:20260421T023732
CREATED:20230123T200741Z
LAST-MODIFIED:20250616T122709Z
UID:10002773-1760572800-1760659199@www.curriculumandquality.co.uk
SUMMARY:TQUK Level 3 Award in Coaching and Mentoring (RQF) @ Online ONLY
DESCRIPTION:
URL:https://www.curriculumandquality.co.uk/event/online-training-tquk-level-3-award-in-coaching-and-mentoring-rqf-online-only/2025-10-16/
CATEGORIES:Coaching and Mentoring
END:VEVENT
BEGIN:VEVENT
DTSTART;VALUE=DATE:20250918
DTEND;VALUE=DATE:20250919
DTSTAMP:20260421T023732
CREATED:20230123T200741Z
LAST-MODIFIED:20250616T122709Z
UID:10002772-1758153600-1758239999@www.curriculumandquality.co.uk
SUMMARY:TQUK Level 3 Award in Coaching and Mentoring (RQF) @ Online ONLY
DESCRIPTION:
URL:https://www.curriculumandquality.co.uk/event/online-training-tquk-level-3-award-in-coaching-and-mentoring-rqf-online-only/2025-09-18/
CATEGORIES:Coaching and Mentoring
END:VEVENT
BEGIN:VEVENT
DTSTART;VALUE=DATE:20250821
DTEND;VALUE=DATE:20250822
DTSTAMP:20260421T023732
CREATED:20230123T200741Z
LAST-MODIFIED:20250616T122709Z
UID:10002771-1755734400-1755820799@www.curriculumandquality.co.uk
SUMMARY:TQUK Level 3 Award in Coaching and Mentoring (RQF) @ Online ONLY
DESCRIPTION:
URL:https://www.curriculumandquality.co.uk/event/online-training-tquk-level-3-award-in-coaching-and-mentoring-rqf-online-only/2025-08-21/
CATEGORIES:Coaching and Mentoring
END:VEVENT
END:VCALENDAR