BEGIN:VCALENDAR
VERSION:2.0
PRODID:-//Curriculum and Quality Solutions - ECPv6.15.20//NONSGML v1.0//EN
CALSCALE:GREGORIAN
METHOD:PUBLISH
X-WR-CALNAME:Curriculum and Quality Solutions
X-ORIGINAL-URL:https://www.curriculumandquality.co.uk
X-WR-CALDESC:Events for Curriculum and Quality Solutions
REFRESH-INTERVAL;VALUE=DURATION:PT1H
X-Robots-Tag:noindex
X-PUBLISHED-TTL:PT1H
BEGIN:VTIMEZONE
TZID:Europe/London
BEGIN:DAYLIGHT
TZOFFSETFROM:+0000
TZOFFSETTO:+0100
TZNAME:BST
DTSTART:20240331T010000
END:DAYLIGHT
BEGIN:STANDARD
TZOFFSETFROM:+0100
TZOFFSETTO:+0000
TZNAME:GMT
DTSTART:20241027T010000
END:STANDARD
BEGIN:DAYLIGHT
TZOFFSETFROM:+0000
TZOFFSETTO:+0100
TZNAME:BST
DTSTART:20250330T010000
END:DAYLIGHT
BEGIN:STANDARD
TZOFFSETFROM:+0100
TZOFFSETTO:+0000
TZNAME:GMT
DTSTART:20251026T010000
END:STANDARD
BEGIN:DAYLIGHT
TZOFFSETFROM:+0000
TZOFFSETTO:+0100
TZNAME:BST
DTSTART:20260329T010000
END:DAYLIGHT
BEGIN:STANDARD
TZOFFSETFROM:+0100
TZOFFSETTO:+0000
TZNAME:GMT
DTSTART:20261025T010000
END:STANDARD
BEGIN:DAYLIGHT
TZOFFSETFROM:+0000
TZOFFSETTO:+0100
TZNAME:BST
DTSTART:20270328T010000
END:DAYLIGHT
BEGIN:STANDARD
TZOFFSETFROM:+0100
TZOFFSETTO:+0000
TZNAME:GMT
DTSTART:20271031T010000
END:STANDARD
END:VTIMEZONE
BEGIN:VEVENT
DTSTART;VALUE=DATE:20260415
DTEND;VALUE=DATE:20260416
DTSTAMP:20260423T041548
CREATED:20250524T125544Z
LAST-MODIFIED:20251123T174607Z
UID:10002755-1776211200-1776297599@www.curriculumandquality.co.uk
SUMMARY:TQUK Level 3 Award in Understanding and Delivering End-Point Assessment (RQF)
DESCRIPTION:
URL:https://www.curriculumandquality.co.uk/event/tquk-level-3-award-in-understanding-and-delivering-end-point-assessment-rqf/2026-04-15/
CATEGORIES:End Point Assessment
END:VEVENT
BEGIN:VEVENT
DTSTART;VALUE=DATE:20260318
DTEND;VALUE=DATE:20260319
DTSTAMP:20260423T041548
CREATED:20250524T125544Z
LAST-MODIFIED:20251123T174607Z
UID:10002754-1773792000-1773878399@www.curriculumandquality.co.uk
SUMMARY:TQUK Level 3 Award in Understanding and Delivering End-Point Assessment (RQF)
DESCRIPTION:
URL:https://www.curriculumandquality.co.uk/event/tquk-level-3-award-in-understanding-and-delivering-end-point-assessment-rqf/2026-03-18/
CATEGORIES:End Point Assessment
END:VEVENT
BEGIN:VEVENT
DTSTART;VALUE=DATE:20260218
DTEND;VALUE=DATE:20260219
DTSTAMP:20260423T041548
CREATED:20250524T125544Z
LAST-MODIFIED:20251123T174607Z
UID:10002753-1771372800-1771459199@www.curriculumandquality.co.uk
SUMMARY:TQUK Level 3 Award in Understanding and Delivering End-Point Assessment (RQF)
DESCRIPTION:
URL:https://www.curriculumandquality.co.uk/event/tquk-level-3-award-in-understanding-and-delivering-end-point-assessment-rqf/2026-02-18/
CATEGORIES:End Point Assessment
END:VEVENT
BEGIN:VEVENT
DTSTART;VALUE=DATE:20260121
DTEND;VALUE=DATE:20260122
DTSTAMP:20260423T041548
CREATED:20250524T125544Z
LAST-MODIFIED:20251123T174607Z
UID:10002752-1768953600-1769039999@www.curriculumandquality.co.uk
SUMMARY:TQUK Level 3 Award in Understanding and Delivering End-Point Assessment (RQF)
DESCRIPTION:
URL:https://www.curriculumandquality.co.uk/event/tquk-level-3-award-in-understanding-and-delivering-end-point-assessment-rqf/2026-01-21/
CATEGORIES:End Point Assessment
END:VEVENT
BEGIN:VEVENT
DTSTART;VALUE=DATE:20251217
DTEND;VALUE=DATE:20251218
DTSTAMP:20260423T041548
CREATED:20250524T125544Z
LAST-MODIFIED:20251123T174607Z
UID:10002751-1765929600-1766015999@www.curriculumandquality.co.uk
SUMMARY:TQUK Level 3 Award in Understanding and Delivering End-Point Assessment (RQF)
DESCRIPTION:
URL:https://www.curriculumandquality.co.uk/event/tquk-level-3-award-in-understanding-and-delivering-end-point-assessment-rqf/2025-12-17/
CATEGORIES:End Point Assessment
END:VEVENT
BEGIN:VEVENT
DTSTART;VALUE=DATE:20251119
DTEND;VALUE=DATE:20251120
DTSTAMP:20260423T041548
CREATED:20250524T125544Z
LAST-MODIFIED:20251123T174607Z
UID:10002750-1763510400-1763596799@www.curriculumandquality.co.uk
SUMMARY:TQUK Level 3 Award in Understanding and Delivering End-Point Assessment (RQF)
DESCRIPTION:
URL:https://www.curriculumandquality.co.uk/event/tquk-level-3-award-in-understanding-and-delivering-end-point-assessment-rqf/2025-11-19/
CATEGORIES:End Point Assessment
END:VEVENT
BEGIN:VEVENT
DTSTART;VALUE=DATE:20251015
DTEND;VALUE=DATE:20251016
DTSTAMP:20260423T041548
CREATED:20250524T125544Z
LAST-MODIFIED:20251123T174607Z
UID:10002749-1760486400-1760572799@www.curriculumandquality.co.uk
SUMMARY:TQUK Level 3 Award in Understanding and Delivering End-Point Assessment (RQF)
DESCRIPTION:
URL:https://www.curriculumandquality.co.uk/event/tquk-level-3-award-in-understanding-and-delivering-end-point-assessment-rqf/2025-10-15/
CATEGORIES:End Point Assessment
END:VEVENT
BEGIN:VEVENT
DTSTART;VALUE=DATE:20250917
DTEND;VALUE=DATE:20250918
DTSTAMP:20260423T041548
CREATED:20250524T125544Z
LAST-MODIFIED:20251123T174607Z
UID:10002748-1758067200-1758153599@www.curriculumandquality.co.uk
SUMMARY:TQUK Level 3 Award in Understanding and Delivering End-Point Assessment (RQF)
DESCRIPTION:
URL:https://www.curriculumandquality.co.uk/event/tquk-level-3-award-in-understanding-and-delivering-end-point-assessment-rqf/2025-09-17/
CATEGORIES:End Point Assessment
END:VEVENT
BEGIN:VEVENT
DTSTART;VALUE=DATE:20250820
DTEND;VALUE=DATE:20250821
DTSTAMP:20260423T041548
CREATED:20250524T125544Z
LAST-MODIFIED:20251123T174607Z
UID:10002747-1755648000-1755734399@www.curriculumandquality.co.uk
SUMMARY:TQUK Level 3 Award in Understanding and Delivering End-Point Assessment (RQF)
DESCRIPTION:
URL:https://www.curriculumandquality.co.uk/event/tquk-level-3-award-in-understanding-and-delivering-end-point-assessment-rqf/2025-08-20/
CATEGORIES:End Point Assessment
END:VEVENT
END:VCALENDAR